BEGIN:VCALENDAR
VERSION:2.0
PRODID:-//Scarborough Lions Club - ECPv6.15.20//NONSGML v1.0//EN
CALSCALE:GREGORIAN
METHOD:PUBLISH
X-WR-CALNAME:Scarborough Lions Club
X-ORIGINAL-URL:https://scarboroughlions.co.uk
X-WR-CALDESC:Events for Scarborough Lions Club
REFRESH-INTERVAL;VALUE=DURATION:PT1H
X-Robots-Tag:noindex
X-PUBLISHED-TTL:PT1H
BEGIN:VTIMEZONE
TZID:UTC
BEGIN:STANDARD
TZOFFSETFROM:+0000
TZOFFSETTO:+0000
TZNAME:UTC
DTSTART:20230101T000000
END:STANDARD
END:VTIMEZONE
BEGIN:VEVENT
DTSTART;TZID=UTC:20240812T190000
DTEND;TZID=UTC:20240812T210000
DTSTAMP:20260422T081906
CREATED:20240723T093335Z
LAST-MODIFIED:20240723T093737Z
UID:568-1723489200-1723496400@scarboroughlions.co.uk
SUMMARY:Scarborough Lions Monthly Meeting
DESCRIPTION:This is an open\, no obligation\, invitation to anyone interested in seeing what Lions do and what we are about. \nCome and have a look\, talk with fellow Lions and see if its for you. \nThe Scarborough Lions monthly meeting is every 2nd Monday in the month.\nThe venue is\nThe Scarborough Rugby Club\nScalby Rd \nAt 7pm \nIf this is your first meeting\, please wait in reception by 6:55pm and our Greeter will take you to the meeting \n  \n 
URL:https://scarboroughlions.co.uk/event/scarborough-lions-monthly-meeting/
CATEGORIES:Business Meeting
ATTACH;FMTTYPE=image/jpeg:https://scarboroughlions.co.uk/wp-content/uploads/2024/07/Logo-Serve-200.jpg
END:VEVENT
BEGIN:VEVENT
DTSTART;TZID=UTC:20240817T000000
DTEND;TZID=UTC:20240817T235959
DTSTAMP:20260422T081906
CREATED:20240722T145130Z
LAST-MODIFIED:20240722T145130Z
UID:557-1723852800-1723939199@scarboroughlions.co.uk
SUMMARY:Community Fair in Scarborough
DESCRIPTION:Scarborough Town centre Community Fair. \nSee Scarborough Lions Club bottle stall along with many other attractions in Scarborough Town Centre. \nA fun day for all ages.
URL:https://scarboroughlions.co.uk/event/community-fair-in-scarborough/
CATEGORIES:Summer Event
ATTACH;FMTTYPE=image/jpeg:https://scarboroughlions.co.uk/wp-content/uploads/2024/07/angiechrissie-scaled-e1721659960655.jpg
END:VEVENT
BEGIN:VEVENT
DTSTART;TZID=UTC:20240818T000000
DTEND;TZID=UTC:20240818T235959
DTSTAMP:20260422T081906
CREATED:20240722T150358Z
LAST-MODIFIED:20240722T150518Z
UID:559-1723939200-1724025599@scarboroughlions.co.uk
SUMMARY:Cayton Summer Gala
DESCRIPTION:Cayton Summer Gala is always a great success and favourite summer event for the village of Cayton\, near Scarborough. \nScarborough Lions Club will be there this year with a new event to try\, Boccia. Great fun by all who have tried it.
URL:https://scarboroughlions.co.uk/event/cayton-summer-gala/
CATEGORIES:Summer Event
ATTACH;FMTTYPE=image/jpeg:https://scarboroughlions.co.uk/wp-content/uploads/2024/07/summer-event-e1721660709499.jpg
END:VEVENT
END:VCALENDAR