BEGIN:VCALENDAR
VERSION:2.0
PRODID:-//Scarborough Lions Club - ECPv6.15.20//NONSGML v1.0//EN
CALSCALE:GREGORIAN
METHOD:PUBLISH
X-WR-CALNAME:Scarborough Lions Club
X-ORIGINAL-URL:https://scarboroughlions.co.uk
X-WR-CALDESC:Events for Scarborough Lions Club
REFRESH-INTERVAL;VALUE=DURATION:PT1H
X-Robots-Tag:noindex
X-PUBLISHED-TTL:PT1H
BEGIN:VTIMEZONE
TZID:UTC
BEGIN:STANDARD
TZOFFSETFROM:+0000
TZOFFSETTO:+0000
TZNAME:UTC
DTSTART:20250101T000000
END:STANDARD
END:VTIMEZONE
BEGIN:VEVENT
DTSTART;TZID=UTC:20260321T183000
DTEND;TZID=UTC:20260321T213000
DTSTAMP:20260421T111625
CREATED:20260201T100307Z
LAST-MODIFIED:20260202T192328Z
UID:968-1774117800-1774128600@scarboroughlions.co.uk
SUMMARY:Scarborough Lions Promises Auction at North Cliff Golf Club - Saturday 21st March 2026
DESCRIPTION:Scarborough Lions are happy to present a promises auction to benefit our community. Included will be a Pie and Peas\, Dessert and Coffee supper. \nJoin us for our upcoming auction of promises and be a part of something truly special. From unique experiences to one-of-a-kind items\, there’s something for everyone to bid on. \nThe best part? All proceeds go towards supporting local Scarborough good causes. Don’t miss out on this chance to give back and have fun at the same time. \nIncluding a catalogue of\, World Top Brewery Tour\, Alpamare Family Voucher\, Wine boxes\, RSPB Bempton Family Day Pass\, Behind the scemes tour of Scarborough Art Gallery and Museum and the ever popular Dona Bell private consultation. We can guarentee a fun evening for all. \n 
URL:https://scarboroughlions.co.uk/event/scarborough-lions-promises-auction-at-north-cliffe-golf-club/
ATTACH;FMTTYPE=image/jpeg:https://scarboroughlions.co.uk/wp-content/uploads/2026/02/auction.poster_small.jpg
END:VEVENT
END:VCALENDAR