BEGIN:VCALENDAR
VERSION:2.0
PRODID:-//Scarborough Lions Club - ECPv6.15.20//NONSGML v1.0//EN
CALSCALE:GREGORIAN
METHOD:PUBLISH
X-WR-CALNAME:Scarborough Lions Club
X-ORIGINAL-URL:https://scarboroughlions.co.uk
X-WR-CALDESC:Events for Scarborough Lions Club
REFRESH-INTERVAL;VALUE=DURATION:PT1H
X-Robots-Tag:noindex
X-PUBLISHED-TTL:PT1H
BEGIN:VTIMEZONE
TZID:UTC
BEGIN:STANDARD
TZOFFSETFROM:+0000
TZOFFSETTO:+0000
TZNAME:UTC
DTSTART:20240101T000000
END:STANDARD
END:VTIMEZONE
BEGIN:VEVENT
DTSTART;TZID=UTC:20251216T170000
DTEND;TZID=UTC:20251216T200000
DTSTAMP:20260421T094943
CREATED:20251123T154047Z
LAST-MODIFIED:20251123T175013Z
UID:946-1765904400-1765915200@scarboroughlions.co.uk
SUMMARY:Santa's Sleigh - Tuesday 16th December - Cayton Area
DESCRIPTION:Santa’s Sleigh will be in the Cayton Area on Tuesday 16th December.\nCome along to see Santa and his sleigh all lit up and playing Christmas music.
URL:https://scarboroughlions.co.uk/event/santas-sleigh-tuesday-16th-december-cayton-area/
ATTACH;FMTTYPE=image/jpeg:https://scarboroughlions.co.uk/wp-content/uploads/2025/11/christmas_small.jpg
END:VEVENT
END:VCALENDAR