BEGIN:VCALENDAR
VERSION:2.0
PRODID:-//Scarborough Lions Club - ECPv6.15.20//NONSGML v1.0//EN
CALSCALE:GREGORIAN
METHOD:PUBLISH
X-ORIGINAL-URL:https://scarboroughlions.co.uk
X-WR-CALDESC:Events for Scarborough Lions Club
REFRESH-INTERVAL;VALUE=DURATION:PT1H
X-Robots-Tag:noindex
X-PUBLISHED-TTL:PT1H
BEGIN:VTIMEZONE
TZID:UTC
BEGIN:STANDARD
TZOFFSETFROM:+0000
TZOFFSETTO:+0000
TZNAME:UTC
DTSTART:20240101T000000
END:STANDARD
END:VTIMEZONE
BEGIN:VEVENT
DTSTART;TZID=UTC:20251215T170000
DTEND;TZID=UTC:20251215T200000
DTSTAMP:20260421T083400
CREATED:20251123T153858Z
LAST-MODIFIED:20251123T174817Z
UID:944-1765818000-1765828800@scarboroughlions.co.uk
SUMMARY:Santa's Sleigh - Monday 15th December - Seamer Area
DESCRIPTION:Santa’s Sleigh will be in the Seamer Area on Monday 15th December.\nCome along to see Santa and his sleigh all lit up and playing Christmas music.
URL:https://scarboroughlions.co.uk/event/santas-sleigh-monday-15th-december-seamer-area/
ATTACH;FMTTYPE=image/jpeg:https://scarboroughlions.co.uk/wp-content/uploads/2025/11/christmas_small.jpg
END:VEVENT
END:VCALENDAR