BEGIN:VCALENDAR
VERSION:2.0
PRODID:-//Scarborough Lions Club - ECPv6.15.20//NONSGML v1.0//EN
CALSCALE:GREGORIAN
METHOD:PUBLISH
X-WR-CALNAME:Scarborough Lions Club
X-ORIGINAL-URL:https://scarboroughlions.co.uk
X-WR-CALDESC:Events for Scarborough Lions Club
REFRESH-INTERVAL;VALUE=DURATION:PT1H
X-Robots-Tag:noindex
X-PUBLISHED-TTL:PT1H
BEGIN:VTIMEZONE
TZID:UTC
BEGIN:STANDARD
TZOFFSETFROM:+0000
TZOFFSETTO:+0000
TZNAME:UTC
DTSTART:20230101T000000
END:STANDARD
END:VTIMEZONE
BEGIN:VEVENT
DTSTART;TZID=UTC:20240907T183000
DTEND;TZID=UTC:20240907T213000
DTSTAMP:20260422T081855
CREATED:20240722T152318Z
LAST-MODIFIED:20240723T091729Z
UID:562-1725733800-1725744600@scarboroughlions.co.uk
SUMMARY:A Night of Clairvoyance
DESCRIPTION:A night of clairvoyance in support of Scarborough Lions Club. \nA wonderful night that is always full of surprises and fun. \nThis event is always fully subscribed so get your tickets as soon as possible. £10 per ticket. \nTickets available from: \n‘Let it Brie’\, 17 Dean Rd\, Scarborough \nLion Jackie – 07802 833647 \nLion Angie – 07860 833 228
URL:https://scarboroughlions.co.uk/event/a-night-of-clairvoyance/
CATEGORIES:Social Event
ATTACH;FMTTYPE=image/png:https://scarboroughlions.co.uk/wp-content/uploads/2024/07/fortune-telling-website-version-e1721726239414.png
END:VEVENT
END:VCALENDAR